BEGIN:VCALENDAR
VERSION:2.0
PRODID:-//West Point Grey United Church - ECPv6.0.13.1//NONSGML v1.0//EN
CALSCALE:GREGORIAN
METHOD:PUBLISH
X-ORIGINAL-URL:https://wpguc.com
X-WR-CALDESC:Events for West Point Grey United Church
REFRESH-INTERVAL;VALUE=DURATION:PT1H
X-Robots-Tag:noindex
X-PUBLISHED-TTL:PT1H
BEGIN:VTIMEZONE
TZID:America/Vancouver
BEGIN:DAYLIGHT
TZOFFSETFROM:-0800
TZOFFSETTO:-0700
TZNAME:PDT
DTSTART:20260308T100000
END:DAYLIGHT
BEGIN:STANDARD
TZOFFSETFROM:-0700
TZOFFSETTO:-0800
TZNAME:PST
DTSTART:20261101T090000
END:STANDARD
END:VTIMEZONE
BEGIN:VEVENT
DTSTART;TZID=America/Vancouver:20260426T120000
DTEND;TZID=America/Vancouver:20260426T133000
DTSTAMP:20260423T191354
CREATED:20260423T184715Z
LAST-MODIFIED:20260423T184715Z
UID:1783-1777204800-1777210200@wpguc.com
SUMMARY:Intercultural Young Adults Circle
DESCRIPTION:Intercultural Young Adults Circle \nOn March 29\, we will gather for the final session of the Young Adults Circle for the 2nd term\, as well as Grets’ last opportunity to lead the group. \nThe gathering will be a potluck. \nBefore we share our meal\, Grets will offer reflections on the International Intercultural Gathering held in Germany in March. \nPlease join us for this meaningful time.
URL:https://wpguc.com/event/intercultural-young-adults-circle/
ATTACH;FMTTYPE=image/png:https://wpguc.com/wp-content/uploads/2026/01/Screenshot-2026-01-24-at-6.12.38 PM.png
END:VEVENT
END:VCALENDAR