BEGIN:VCALENDAR
VERSION:2.0
PRODID:-//West Point Grey United Church - ECPv6.0.13.1//NONSGML v1.0//EN
CALSCALE:GREGORIAN
METHOD:PUBLISH
X-WR-CALNAME:West Point Grey United Church
X-ORIGINAL-URL:https://wpguc.com
X-WR-CALDESC:Events for West Point Grey United Church
REFRESH-INTERVAL;VALUE=DURATION:PT1H
X-Robots-Tag:noindex
X-PUBLISHED-TTL:PT1H
BEGIN:VTIMEZONE
TZID:America/Vancouver
BEGIN:DAYLIGHT
TZOFFSETFROM:-0800
TZOFFSETTO:-0700
TZNAME:PDT
DTSTART:20260308T100000
END:DAYLIGHT
BEGIN:STANDARD
TZOFFSETFROM:-0700
TZOFFSETTO:-0800
TZNAME:PST
DTSTART:20261101T090000
END:STANDARD
END:VTIMEZONE
BEGIN:VEVENT
DTSTART;TZID=America/Vancouver:20260424T130000
DTEND;TZID=America/Vancouver:20260424T143000
DTSTAMP:20260423T144421
CREATED:20260423T184952Z
LAST-MODIFIED:20260423T185034Z
UID:1785-1777035600-1777041000@wpguc.com
SUMMARY:Mandarin Bible Study
DESCRIPTION:Friday Mandarin Bible Study \nYou are invited to join our Mandarin Bible Study at 1:00 pm on Friday in-person in the Fellowship Room. \nWe will continue to study the Gospel of John. \nTogether\, we will read\, reflect\, and share how God’s Word speaks into our daily lives. It doesn’t matter if you’ve read the Bible all your life or do not even own one; we would love to have you. \nIt will include coffee and snacks!
URL:https://wpguc.com/event/mandarin-bible-study/
ATTACH;FMTTYPE=image/png:https://wpguc.com/wp-content/uploads/2026/02/Screenshot-2026-02-25-at-11.23.44 PM.png
END:VEVENT
END:VCALENDAR